BEGIN:VCALENDAR
VERSION:2.0
PRODID:-//MH Timetable Plugin//DE
CALSCALE:GREGORIAN
METHOD:PUBLISH
X-WR-CALNAME:Winter 2025/26 - WG13
BEGIN:VEVENT
UID:4da7b35f00e2e0cfe1d67dbdf8546639@mh-timetable.de
DTSTAMP:20260420T064439Z
DTSTART;VALUE=DATE:20251203
DTEND;VALUE=DATE:20251215
SUMMARY:WG13: Datenüberprüfung
DESCRIPTION:Typ: DÜ | Verantwortlich: FachlehrerInnen
END:VEVENT
BEGIN:VEVENT
UID:6810b4d444ec08179f58ca0411e920e5@mh-timetable.de
DTSTAMP:20260420T064439Z
DTSTART;VALUE=DATE:20260109
DTEND;VALUE=DATE:20260126
SUMMARY:WG13: SCHILDWEB Noteneingabe
DESCRIPTION:Typ: NE | Verantwortlich: 
END:VEVENT
BEGIN:VEVENT
UID:d092ce4e14d8b9607da0e23108368250@mh-timetable.de
DTSTAMP:20260420T064439Z
DTSTART;VALUE=DATE:20260128
DTEND;VALUE=DATE:20260129
SUMMARY:WG13: Zeugniskonferenzen
DESCRIPTION:Typ: ZK | Verantwortlich: 
END:VEVENT
BEGIN:VEVENT
UID:827f01988bf0ec9a09abdd9d8dbb6394@mh-timetable.de
DTSTAMP:20260420T064439Z
DTSTART;VALUE=DATE:20260206
DTEND;VALUE=DATE:20260207
SUMMARY:WG13: Zeugnisausgabe
DESCRIPTION:Typ: ZA | Verantwortlich: 
END:VEVENT
END:VCALENDAR
