BEGIN:VCALENDAR
VERSION:2.0
PRODID:-//MH Timetable Plugin//DE
CALSCALE:GREGORIAN
METHOD:PUBLISH
X-WR-CALNAME:Sommer 2025 - WG13
BEGIN:VEVENT
UID:8e3eed91e00fe36a87458d9b91fcfccb@mh-timetable.de
DTSTAMP:20260420T064433Z
DTSTART;VALUE=DATE:20250324
DTEND;VALUE=DATE:20250331
SUMMARY:WG13: Vornoten
DESCRIPTION:Typ: NE | Verantwortlich: 
END:VEVENT
BEGIN:VEVENT
UID:4a201f9c8b785c97d738658b427f1e25@mh-timetable.de
DTSTAMP:20260420T064433Z
DTSTART;VALUE=DATE:20250401
DTEND;VALUE=DATE:20250402
SUMMARY:WG13: Vornoten Konferenz
DESCRIPTION:Typ: ZK | Verantwortlich: 
END:VEVENT
BEGIN:VEVENT
UID:b19c2e9df4bda8aa0d5633e2d6d6ef6f@mh-timetable.de
DTSTAMP:20260420T064433Z
DTSTART;VALUE=DATE:20250410
DTEND;VALUE=DATE:20250411
SUMMARY:WG13: 1. APA\, Zulassung zum Abitur
DESCRIPTION:Typ: APA | Verantwortlich: Friedrich
END:VEVENT
BEGIN:VEVENT
UID:7cca6aebd4eaaa935d4c2758f09cf144@mh-timetable.de
DTSTAMP:20260420T064433Z
DTSTART;VALUE=DATE:20250531
DTEND;VALUE=DATE:20250611
SUMMARY:WG13: Noteneingabe Abitur (direkt in Schild)
DESCRIPTION:Typ: NE | Verantwortlich: SCHILD
END:VEVENT
BEGIN:VEVENT
UID:f66beccf76555f0e63cbd09f70770321@mh-timetable.de
DTSTAMP:20260420T064433Z
DTSTART;VALUE=DATE:20250616
DTEND;VALUE=DATE:20250617
SUMMARY:WG13: 2. APA und Bekanntgabe der Noten
DESCRIPTION:Typ: APA | Verantwortlich: Friedrich
END:VEVENT
BEGIN:VEVENT
UID:835a264938db62b61a098d83eafbc587@mh-timetable.de
DTSTAMP:20260420T064433Z
DTSTART;VALUE=DATE:20250624
DTEND;VALUE=DATE:20250625
SUMMARY:WG13: 3. APA
DESCRIPTION:Typ: APA | Verantwortlich: Friedrich
END:VEVENT
BEGIN:VEVENT
UID:1718cf0730509283e6a450b07d0c6e56@mh-timetable.de
DTSTAMP:20260420T064433Z
DTSTART;VALUE=DATE:20250627
DTEND;VALUE=DATE:20250628
SUMMARY:WG13: Zeugnisausgabe
DESCRIPTION:Typ: ZA | Verantwortlich: Friedrich
END:VEVENT
END:VCALENDAR
