BEGIN:VCALENDAR
VERSION:2.0
PRODID:-//MH Timetable Plugin//DE
CALSCALE:GREGORIAN
METHOD:PUBLISH
X-WR-CALNAME:Sommer 2025 - WG11/12
BEGIN:VEVENT
UID:7a5b92382ff8a502e16e35025d09d4b1@mh-timetable.de
DTSTAMP:20260420T064316Z
DTSTART;VALUE=DATE:20250402
DTEND;VALUE=DATE:20250410
SUMMARY:WG11/12: Datenüberprüfung (bis 14 Uhr)
DESCRIPTION:Typ: DÜ | Verantwortlich: 
END:VEVENT
BEGIN:VEVENT
UID:707dd40c1e41e649c463ad4b02dc7a12@mh-timetable.de
DTSTAMP:20260420T064316Z
DTSTART;VALUE=DATE:20250623
DTEND;VALUE=DATE:20250630
SUMMARY:WG11/12: Noteneingabe
DESCRIPTION:Typ: NE | Verantwortlich: Fachlehrer
END:VEVENT
BEGIN:VEVENT
UID:3ab5ea1aa2adb4c795537593f015f1bf@mh-timetable.de
DTSTAMP:20260420T064316Z
DTSTART;VALUE=DATE:20250702
DTEND;VALUE=DATE:20250703
SUMMARY:WG11/12: Zeugniskonferenzen
DESCRIPTION:Typ: ZK | Verantwortlich: 
END:VEVENT
BEGIN:VEVENT
UID:c9c86d9c1656a6fdc6444a5c70e1763d@mh-timetable.de
DTSTAMP:20260420T064316Z
DTSTART;VALUE=DATE:20250711
DTEND;VALUE=DATE:20250712
SUMMARY:WG11/12: Zeugnisausgabe
DESCRIPTION:Typ: ZA | Verantwortlich: Klassenlehrer
END:VEVENT
END:VCALENDAR
