BEGIN:VCALENDAR
VERSION:2.0
PRODID:-//MH Timetable Plugin//DE
CALSCALE:GREGORIAN
METHOD:PUBLISH
X-WR-CALNAME:Sommer 2025 - IFK
BEGIN:VEVENT
UID:dcef01b062f4546d8caeddf6e2bb9bfb@mh-timetable.de
DTSTAMP:20260420T063845Z
DTSTART;VALUE=DATE:20250402
DTEND;VALUE=DATE:20250410
SUMMARY:IFK: Datenüberprüfung (bis 14 Uhr)
DESCRIPTION:Typ: DÜ | Verantwortlich: 
END:VEVENT
BEGIN:VEVENT
UID:fac1d91c091a6a4b3c2dffd170e1e638@mh-timetable.de
DTSTAMP:20260420T063845Z
DTSTART;VALUE=DATE:20250623
DTEND;VALUE=DATE:20250630
SUMMARY:IFK: Noteneingabe
DESCRIPTION:Typ: NE | Verantwortlich: 
END:VEVENT
BEGIN:VEVENT
UID:80e64e06e16b4edbe55672e16af31980@mh-timetable.de
DTSTAMP:20260420T063845Z
DTSTART;VALUE=DATE:20250701
DTEND;VALUE=DATE:20250702
SUMMARY:IFK: Zeugniskonferenzen
DESCRIPTION:Typ: ZK | Verantwortlich: 
END:VEVENT
BEGIN:VEVENT
UID:4db3cd41af2c1179005619130c78aa1e@mh-timetable.de
DTSTAMP:20260420T063845Z
DTSTART;VALUE=DATE:20250711
DTEND;VALUE=DATE:20250712
SUMMARY:IFK: Zeugnisausgabe
DESCRIPTION:Typ: ZA | Verantwortlich: 
END:VEVENT
END:VCALENDAR
