BEGIN:VCALENDAR
VERSION:2.0
PRODID:-//MH Timetable Plugin//DE
CALSCALE:GREGORIAN
METHOD:PUBLISH
X-WR-CALNAME:Sommer 2025 - H12/BAO/FOS12
BEGIN:VEVENT
UID:9dd5e8d58e9353ecc4925d602322f3c6@mh-timetable.de
DTSTAMP:20260424T083021Z
DTSTART;VALUE=DATE:20250402
DTEND;VALUE=DATE:20250410
SUMMARY:H12/BAO/FOS12: Datenüberprüfung (bis 14 Uhr)
DESCRIPTION:Typ: DÜ | Verantwortlich: 
END:VEVENT
BEGIN:VEVENT
UID:9de0c5f3c974252d18875f3f914724c3@mh-timetable.de
DTSTAMP:20260424T083021Z
DTSTART;VALUE=DATE:20250502
DTEND;VALUE=DATE:20250512
SUMMARY:H12/BAO/FOS12: Eingabe der Vornoten
DESCRIPTION:Typ: NE | Verantwortlich: 
END:VEVENT
BEGIN:VEVENT
UID:3d9e99255b92f2a8538c3640ce9314be@mh-timetable.de
DTSTAMP:20260424T083021Z
DTSTART;VALUE=DATE:20250513
DTEND;VALUE=DATE:20250514
SUMMARY:H12/BAO/FOS12: Zulassungskonferenz
DESCRIPTION:Typ: ZK | Verantwortlich: AL
END:VEVENT
BEGIN:VEVENT
UID:d61b648a11ee3799a70a25ab947a9126@mh-timetable.de
DTSTAMP:20260424T083021Z
DTSTART;VALUE=DATE:20250514
DTEND;VALUE=DATE:20250515
SUMMARY:H12/BAO/FOS12: 1. APA
DESCRIPTION:Typ: APA | Verantwortlich: AL
END:VEVENT
BEGIN:VEVENT
UID:a2085909a63e5d6e810a11d393aca2a4@mh-timetable.de
DTSTAMP:20260424T083021Z
DTSTART;VALUE=DATE:20250531
DTEND;VALUE=DATE:20250612
SUMMARY:H12/BAO/FOS12: Noteneingabe schriftl. Prüfungen bis 14 Uhr
DESCRIPTION:Typ: NE | Verantwortlich: FL
END:VEVENT
BEGIN:VEVENT
UID:ffc6fa7ffce8f579047a7c72d98cd3c4@mh-timetable.de
DTSTAMP:20260424T083021Z
DTSTART;VALUE=DATE:20250612
DTEND;VALUE=DATE:20250613
SUMMARY:H12/BAO/FOS12: Beratungs-APA
DESCRIPTION:Typ: APA | Verantwortlich: 
END:VEVENT
BEGIN:VEVENT
UID:b055f571750229060c362e9560b6add2@mh-timetable.de
DTSTAMP:20260424T083021Z
DTSTART;VALUE=DATE:20250624
DTEND;VALUE=DATE:20250626
SUMMARY:H12/BAO/FOS12: 2. APA (Abschlusskonferenz)
DESCRIPTION:Typ: APA | Verantwortlich: 
END:VEVENT
BEGIN:VEVENT
UID:36738675cf5928dc59802d118cbcbe59@mh-timetable.de
DTSTAMP:20260424T083021Z
DTSTART;VALUE=DATE:20250702
DTEND;VALUE=DATE:20250703
SUMMARY:H12/BAO/FOS12: Zeugnisausgabe
DESCRIPTION:Typ: ZA | Verantwortlich: 
END:VEVENT
END:VCALENDAR
