BEGIN:VCALENDAR
VERSION:2.0
PRODID:-//MH Timetable Plugin//DE
CALSCALE:GREGORIAN
METHOD:PUBLISH
X-WR-CALNAME:Winter 2025/26 - H11
BEGIN:VEVENT
UID:0c16ac9fd44b84b902d6848807bbe848@mh-timetable.de
DTSTAMP:20260420T064122Z
DTSTART;VALUE=DATE:20251203
DTEND;VALUE=DATE:20251215
SUMMARY:H11: Datenüberprüfung
DESCRIPTION:Typ: DÜ | Verantwortlich: FachlehrerInnen
END:VEVENT
BEGIN:VEVENT
UID:02bb3401b99f36ce0cd6047ffdeeab84@mh-timetable.de
DTSTAMP:20260420T064122Z
DTSTART;VALUE=DATE:20260109
DTEND;VALUE=DATE:20260126
SUMMARY:H11: SCHILDWEB Noteneingabe
DESCRIPTION:Typ: NE | Verantwortlich: 
END:VEVENT
BEGIN:VEVENT
UID:5fae80ff5f17a4d82e900fd436744c3e@mh-timetable.de
DTSTAMP:20260420T064122Z
DTSTART;VALUE=DATE:20260127
DTEND;VALUE=DATE:20260128
SUMMARY:H11: Zeugniskonferenzen
DESCRIPTION:Typ: ZK | Verantwortlich: 
END:VEVENT
BEGIN:VEVENT
UID:b3ac10b27f48fea77966da6e6f5ce376@mh-timetable.de
DTSTAMP:20260420T064122Z
DTSTART;VALUE=DATE:20260206
DTEND;VALUE=DATE:20260207
SUMMARY:H11: Zeugnisausgabe
DESCRIPTION:Typ: ZA | Verantwortlich: 
END:VEVENT
END:VCALENDAR
