BEGIN:VCALENDAR
VERSION:2.0
PRODID:-//MH Timetable Plugin//DE
CALSCALE:GREGORIAN
METHOD:PUBLISH
X-WR-CALNAME:Sommer 2025 - H11/BAU
BEGIN:VEVENT
UID:5ffababed28435e6bd8aca4a02f72235@mh-timetable.de
DTSTAMP:20260420T063926Z
DTSTART;VALUE=DATE:20250402
DTEND;VALUE=DATE:20250410
SUMMARY:H11/BAU: Datenüberprüfung (bis 14 Uhr)
DESCRIPTION:Typ: DÜ | Verantwortlich: 
END:VEVENT
BEGIN:VEVENT
UID:fca81bbab3b75d4825b2f5d08c6c31c8@mh-timetable.de
DTSTAMP:20260420T063926Z
DTSTART;VALUE=DATE:20250623
DTEND;VALUE=DATE:20250630
SUMMARY:H11/BAU: Noteneingabe
DESCRIPTION:Typ: NE | Verantwortlich: 
END:VEVENT
BEGIN:VEVENT
UID:5c0252da44e7de30b6ceec83a19980aa@mh-timetable.de
DTSTAMP:20260420T063926Z
DTSTART;VALUE=DATE:20250701
DTEND;VALUE=DATE:20250702
SUMMARY:H11/BAU: Zeugniskonferenzen
DESCRIPTION:Typ: ZK | Verantwortlich: 
END:VEVENT
BEGIN:VEVENT
UID:c98a8d4141dde8f2d007e467c17c02f9@mh-timetable.de
DTSTAMP:20260420T063926Z
DTSTART;VALUE=DATE:20250711
DTEND;VALUE=DATE:20250712
SUMMARY:H11/BAU: Zeugnisausgabe
DESCRIPTION:Typ: ZA | Verantwortlich: 
END:VEVENT
END:VCALENDAR
