BEGIN:VCALENDAR
VERSION:2.0
PRODID:-//MH Timetable Plugin//DE
CALSCALE:GREGORIAN
METHOD:PUBLISH
X-WR-CALNAME:Sommer 2025 - FS Abschluss
BEGIN:VEVENT
UID:8e3e763662a5df20d0cfc135efb43c2d@mh-timetable.de
DTSTAMP:20260420T064235Z
DTSTART;VALUE=DATE:20250310
DTEND;VALUE=DATE:20250331
SUMMARY:FS Abschluss: Noteneingabe
DESCRIPTION:Typ: NE | Verantwortlich: 
END:VEVENT
BEGIN:VEVENT
UID:87e61237f2cf934b39e697746b2cefc2@mh-timetable.de
DTSTAMP:20260420T064235Z
DTSTART;VALUE=DATE:20250411
DTEND;VALUE=DATE:20250412
SUMMARY:FS Abschluss: 1. APA
DESCRIPTION:Typ: APA | Verantwortlich: AL
END:VEVENT
BEGIN:VEVENT
UID:ad5dd43d8a228cd03e93342978c89f5a@mh-timetable.de
DTSTAMP:20260420T064235Z
DTSTART;VALUE=DATE:20250613
DTEND;VALUE=DATE:20250614
SUMMARY:FS Abschluss: Beratungsapa
DESCRIPTION:Typ: APA | Verantwortlich: 
END:VEVENT
BEGIN:VEVENT
UID:4509dde81e29f957ffdfbee4f18d97d3@mh-timetable.de
DTSTAMP:20260420T064235Z
DTSTART;VALUE=DATE:20250630
DTEND;VALUE=DATE:20250701
SUMMARY:FS Abschluss: Abschluss-APA
DESCRIPTION:Typ: APA | Verantwortlich: 
END:VEVENT
BEGIN:VEVENT
UID:9a9c15b56a7f1dadc314ab6cc108b2f4@mh-timetable.de
DTSTAMP:20260420T064235Z
DTSTART;VALUE=DATE:20250703
DTEND;VALUE=DATE:20250704
SUMMARY:FS Abschluss: Abschluss und Zeugnisausgabe
DESCRIPTION:Typ: ZA | Verantwortlich: Epping
END:VEVENT
BEGIN:VEVENT
UID:b7293679f3d2ca3bbb70a4a4b9a33f2d@mh-timetable.de
DTSTAMP:20260420T064235Z
DTSTART;VALUE=DATE:20250703
DTEND;VALUE=DATE:20250704
SUMMARY:FS Abschluss: Zeugnisausgabe
DESCRIPTION:Typ: ZA | Verantwortlich: 
END:VEVENT
END:VCALENDAR
