BEGIN:VCALENDAR
VERSION:2.0
PRODID:-//MH Timetable Plugin//DE
CALSCALE:GREGORIAN
METHOD:PUBLISH
X-WR-CALNAME:Sommer 2025 - FS
BEGIN:VEVENT
UID:9f3e8227ad8757680dac5f77eae00b79@mh-timetable.de
DTSTAMP:20260424T082237Z
DTSTART;VALUE=DATE:20250402
DTEND;VALUE=DATE:20250410
SUMMARY:FS: Datenüberprüfung (bis 14 Uhr)
DESCRIPTION:Typ: DÜ | Verantwortlich: 
END:VEVENT
BEGIN:VEVENT
UID:803bd90d04429ab8d9058d513a107ae2@mh-timetable.de
DTSTAMP:20260424T082237Z
DTSTART;VALUE=DATE:20250623
DTEND;VALUE=DATE:20250630
SUMMARY:FS: Noteneingabe
DESCRIPTION:Typ: NE | Verantwortlich: 
END:VEVENT
BEGIN:VEVENT
UID:f9fce0dded0bfd03fa24266148300f52@mh-timetable.de
DTSTAMP:20260424T082237Z
DTSTART;VALUE=DATE:20250701
DTEND;VALUE=DATE:20250702
SUMMARY:FS: Zeugniskonferenzen
DESCRIPTION:Typ: ZK | Verantwortlich: 
END:VEVENT
BEGIN:VEVENT
UID:d2c7e5214bf09591516175bf4dd4570b@mh-timetable.de
DTSTAMP:20260424T082237Z
DTSTART;VALUE=DATE:20250703
DTEND;VALUE=DATE:20250704
SUMMARY:FS: Zeugnisausgabe
DESCRIPTION:Typ: ZA | Verantwortlich: Epping
END:VEVENT
END:VCALENDAR
