BEGIN:VCALENDAR
VERSION:2.0
PRODID:-//MH Timetable Plugin//DE
CALSCALE:GREGORIAN
METHOD:PUBLISH
X-WR-CALNAME:Sommer 2025 - FOS13
BEGIN:VEVENT
UID:010d5b33deea1a43322b10880f4ae1d2@mh-timetable.de
DTSTAMP:20260424T083057Z
DTSTART;VALUE=DATE:20250402
DTEND;VALUE=DATE:20250410
SUMMARY:FOS13: Datenüberprüfung (bis 14 Uhr)
DESCRIPTION:Typ: DÜ | Verantwortlich: 
END:VEVENT
BEGIN:VEVENT
UID:32092a3e4100b4d65d5f7c24ea677ed6@mh-timetable.de
DTSTAMP:20260424T083057Z
DTSTART;VALUE=DATE:20250502
DTEND;VALUE=DATE:20250512
SUMMARY:FOS13: Eingabe der Vornoten
DESCRIPTION:Typ: NE | Verantwortlich: 
END:VEVENT
BEGIN:VEVENT
UID:f0718662c6175be34acd18488909034f@mh-timetable.de
DTSTAMP:20260424T083057Z
DTSTART;VALUE=DATE:20250513
DTEND;VALUE=DATE:20250514
SUMMARY:FOS13: APA1
DESCRIPTION:Typ: APA | Verantwortlich: 
END:VEVENT
BEGIN:VEVENT
UID:c0cec38d5acb83af5e97f6bac10c7707@mh-timetable.de
DTSTAMP:20260424T083057Z
DTSTART;VALUE=DATE:20250531
DTEND;VALUE=DATE:20250612
SUMMARY:FOS13: Noteingabe schriftl. Prüfungen bis 14 Uhr
DESCRIPTION:Typ: NE | Verantwortlich: 
END:VEVENT
BEGIN:VEVENT
UID:2d77060d965b90f67fa49e21eda09ae9@mh-timetable.de
DTSTAMP:20260424T083057Z
DTSTART;VALUE=DATE:20250612
DTEND;VALUE=DATE:20250613
SUMMARY:FOS13: APA 1b
DESCRIPTION:Typ: APA | Verantwortlich: 
END:VEVENT
BEGIN:VEVENT
UID:958af3696fe8e18bafdcc848ba9a1eb5@mh-timetable.de
DTSTAMP:20260424T083057Z
DTSTART;VALUE=DATE:20250624
DTEND;VALUE=DATE:20250626
SUMMARY:FOS13: APA 2
DESCRIPTION:Typ: APA | Verantwortlich: 
END:VEVENT
BEGIN:VEVENT
UID:52213f27e6641fb405ae80149970284d@mh-timetable.de
DTSTAMP:20260424T083057Z
DTSTART;VALUE=DATE:20250703
DTEND;VALUE=DATE:20250704
SUMMARY:FOS13: Zeugnisausgabe
DESCRIPTION:Typ: ZA | Verantwortlich: 
END:VEVENT
END:VCALENDAR
