BEGIN:VCALENDAR
VERSION:2.0
PRODID:-//MH Timetable Plugin//DE
CALSCALE:GREGORIAN
METHOD:PUBLISH
X-WR-CALNAME:Winter 2025/26 - FOS12/13
BEGIN:VEVENT
UID:ac67eb280d54caf3db751b1b3854accf@mh-timetable.de
DTSTAMP:20260424T083230Z
DTSTART;VALUE=DATE:20251203
DTEND;VALUE=DATE:20251215
SUMMARY:FOS12/13: Datenüberprüfung
DESCRIPTION:Typ: DÜ | Verantwortlich: FachlehrerInnen
END:VEVENT
BEGIN:VEVENT
UID:741518b2fb88e2d8600ddbc8a2d47f79@mh-timetable.de
DTSTAMP:20260424T083230Z
DTSTART;VALUE=DATE:20260109
DTEND;VALUE=DATE:20260126
SUMMARY:FOS12/13: SCHILDWEB Noteneingabe
DESCRIPTION:Typ: NE | Verantwortlich: 
END:VEVENT
BEGIN:VEVENT
UID:c302917c67caf17a27cb806589d23558@mh-timetable.de
DTSTAMP:20260424T083230Z
DTSTART;VALUE=DATE:20260127
DTEND;VALUE=DATE:20260128
SUMMARY:FOS12/13: Zeugniskonferenzen
DESCRIPTION:Typ: ZK | Verantwortlich: 
END:VEVENT
BEGIN:VEVENT
UID:7c4fb45ac1491bfc3c4cd1f820e5da55@mh-timetable.de
DTSTAMP:20260424T083230Z
DTSTART;VALUE=DATE:20260206
DTEND;VALUE=DATE:20260207
SUMMARY:FOS12/13: Zeugnisausgabe
DESCRIPTION:Typ: ZA | Verantwortlich: 
END:VEVENT
END:VCALENDAR
