BEGIN:VCALENDAR
VERSION:2.0
PRODID:-//MH Timetable Plugin//DE
CALSCALE:GREGORIAN
METHOD:PUBLISH
X-WR-CALNAME:Winter 2025/26 - FHDO
BEGIN:VEVENT
UID:2145a0f73b9c40af1461309a4b8ab66a@mh-timetable.de
DTSTAMP:20260420T064102Z
DTSTART;VALUE=DATE:20251203
DTEND;VALUE=DATE:20251215
SUMMARY:FHDO: Datenüberprüfung
DESCRIPTION:Typ: DÜ | Verantwortlich: FachlehrerInnen
END:VEVENT
BEGIN:VEVENT
UID:46b85443ed9b0e6aa4e6f5064888539b@mh-timetable.de
DTSTAMP:20260420T064102Z
DTSTART;VALUE=DATE:20260109
DTEND;VALUE=DATE:20260126
SUMMARY:FHDO: SCHILDWEB Noteneingabe
DESCRIPTION:Typ: NE | Verantwortlich: 
END:VEVENT
BEGIN:VEVENT
UID:674e3935341ed7abfce8eaf7bb2a9c4c@mh-timetable.de
DTSTAMP:20260420T064102Z
DTSTART;VALUE=DATE:20260202
DTEND;VALUE=DATE:20260207
SUMMARY:FHDO: Zeugnisausgabe
DESCRIPTION:Typ: ZA | Verantwortlich: 
END:VEVENT
END:VCALENDAR
