BEGIN:VCALENDAR
VERSION:2.0
PRODID:-//MH Timetable Plugin//DE
CALSCALE:GREGORIAN
METHOD:PUBLISH
X-WR-CALNAME:Sommer 2025 - FHDO
BEGIN:VEVENT
UID:68ee19a1375728dfdfd848b2d8ff1fa3@mh-timetable.de
DTSTAMP:20260420T064025Z
DTSTART;VALUE=DATE:20250402
DTEND;VALUE=DATE:20250410
SUMMARY:FHDO: Datenüberprüfung (bis 14 Uhr)
DESCRIPTION:Typ: DÜ | Verantwortlich: 
END:VEVENT
BEGIN:VEVENT
UID:bc2a329f15900f57cdb9b93877970964@mh-timetable.de
DTSTAMP:20260420T064025Z
DTSTART;VALUE=DATE:20250425
DTEND;VALUE=DATE:20250502
SUMMARY:FHDO: Noteneingabe
DESCRIPTION:Typ: NE | Verantwortlich: 
END:VEVENT
BEGIN:VEVENT
UID:c56d13fd7a811b0d5271fedf4b27cfcd@mh-timetable.de
DTSTAMP:20260420T064025Z
DTSTART;VALUE=DATE:20250505
DTEND;VALUE=DATE:20250506
SUMMARY:FHDO: 1. APA Zulassung
DESCRIPTION:Typ: APA | Verantwortlich: 
END:VEVENT
BEGIN:VEVENT
UID:5174fb7a5e89a6c4b77459796babd1e5@mh-timetable.de
DTSTAMP:20260420T064025Z
DTSTART;VALUE=DATE:20250531
DTEND;VALUE=DATE:20250611
SUMMARY:FHDO: Noteingabe schriftl. Prüfungen
DESCRIPTION:Typ: NE | Verantwortlich: 
END:VEVENT
BEGIN:VEVENT
UID:d165f1cb1fb0f5b1a1b57f66d9c0447a@mh-timetable.de
DTSTAMP:20260420T064025Z
DTSTART;VALUE=DATE:20250613
DTEND;VALUE=DATE:20250614
SUMMARY:FHDO: APA 1b
DESCRIPTION:Typ: APA | Verantwortlich: 
END:VEVENT
BEGIN:VEVENT
UID:427305e5bda493c761bf4355450ebf6d@mh-timetable.de
DTSTAMP:20260420T064025Z
DTSTART;VALUE=DATE:20250623
DTEND;VALUE=DATE:20250624
SUMMARY:FHDO: APA 2
DESCRIPTION:Typ: APA | Verantwortlich: 
END:VEVENT
BEGIN:VEVENT
UID:3e3cb56b4a342948ceb2c234770eb3c2@mh-timetable.de
DTSTAMP:20260420T064025Z
DTSTART;VALUE=DATE:20250625
DTEND;VALUE=DATE:20250626
SUMMARY:FHDO: Zeugnisausgabe
DESCRIPTION:Typ: ZA | Verantwortlich: 
END:VEVENT
END:VCALENDAR
