BEGIN:VCALENDAR
VERSION:2.0
PRODID:-//MH Timetable Plugin//DE
CALSCALE:GREGORIAN
METHOD:PUBLISH
X-WR-CALNAME:Winter 2025/26 - BS Abschluss
BEGIN:VEVENT
UID:583efd2943d80a40a7d8bae86d727cd7@mh-timetable.de
DTSTAMP:20260420T064423Z
DTSTART;VALUE=DATE:20251203
DTEND;VALUE=DATE:20251215
SUMMARY:BS Abschluss: Datenüberprüfung
DESCRIPTION:Typ: DÜ | Verantwortlich: FachlehrerInnen
END:VEVENT
BEGIN:VEVENT
UID:2367c52941c5a2146d127c51106b7936@mh-timetable.de
DTSTAMP:20260420T064423Z
DTSTART;VALUE=DATE:20260109
DTEND;VALUE=DATE:20260126
SUMMARY:BS Abschluss: SCHILDWEB Noteneingabe
DESCRIPTION:Typ: NE | Verantwortlich: 
END:VEVENT
BEGIN:VEVENT
UID:ecf82ec12611b71b932f9b7a9019185b@mh-timetable.de
DTSTAMP:20260420T064423Z
DTSTART;VALUE=DATE:20260127
DTEND;VALUE=DATE:20260131
SUMMARY:BS Abschluss: Zeugniskonferenzen
DESCRIPTION:Typ: ZK | Verantwortlich: 
END:VEVENT
BEGIN:VEVENT
UID:59f08f2870bc1eca20964c48c1bd20a1@mh-timetable.de
DTSTAMP:20260420T064423Z
DTSTART;VALUE=DATE:20260202
DTEND;VALUE=DATE:20260207
SUMMARY:BS Abschluss: Zeugnisausgabe
DESCRIPTION:Typ: ZA | Verantwortlich: 
END:VEVENT
END:VCALENDAR
