BEGIN:VCALENDAR
VERSION:2.0
PRODID:-//MH Timetable Plugin//DE
CALSCALE:GREGORIAN
METHOD:PUBLISH
X-WR-CALNAME:Sommer 2025 - BS Abschluss
BEGIN:VEVENT
UID:1ec104442d8f540f41caa02441951661@mh-timetable.de
DTSTAMP:20260420T064245Z
DTSTART;VALUE=DATE:20250402
DTEND;VALUE=DATE:20250410
SUMMARY:BS Abschluss: Datenüberprüfung (bis 14 Uhr)
DESCRIPTION:Typ: DÜ | Verantwortlich: 
END:VEVENT
BEGIN:VEVENT
UID:600bf62d658056e4f3d0553d0be9a1bf@mh-timetable.de
DTSTAMP:20260420T064245Z
DTSTART;VALUE=DATE:20250523
DTEND;VALUE=DATE:20250602
SUMMARY:BS Abschluss: Noteneingabe
DESCRIPTION:Typ: NE | Verantwortlich: 
END:VEVENT
BEGIN:VEVENT
UID:1b3e97a3d03198664d3c3b03e678b741@mh-timetable.de
DTSTAMP:20260420T064245Z
DTSTART;VALUE=DATE:20250602
DTEND;VALUE=DATE:20250607
SUMMARY:BS Abschluss: Zeugniskonferenzen
DESCRIPTION:Typ: ZK | Verantwortlich: 
END:VEVENT
BEGIN:VEVENT
UID:18ba5eb90a64724b765c9eb781c332c2@mh-timetable.de
DTSTAMP:20260420T064245Z
DTSTART;VALUE=DATE:20250625
DTEND;VALUE=DATE:20250626
SUMMARY:BS Abschluss: Zeugnisausgabe
DESCRIPTION:Typ: ZA | Verantwortlich: 
END:VEVENT
END:VCALENDAR
