BEGIN:VCALENDAR
VERSION:2.0
PRODID:-//MH Timetable Plugin//DE
CALSCALE:GREGORIAN
METHOD:PUBLISH
X-WR-CALNAME:Winter 2025/26 - BS
BEGIN:VEVENT
UID:b81c88a50ac50b51c7ac25616973c96b@mh-timetable.de
DTSTAMP:20260420T063800Z
DTSTART;VALUE=DATE:20251203
DTEND;VALUE=DATE:20251215
SUMMARY:BS: Datenüberprüfung
DESCRIPTION:Typ: DÜ | Verantwortlich: FachlehrerInnen
END:VEVENT
BEGIN:VEVENT
UID:e02f056f5bc8b575816873f7fba372ec@mh-timetable.de
DTSTAMP:20260420T063800Z
DTSTART;VALUE=DATE:20260109
DTEND;VALUE=DATE:20260126
SUMMARY:BS: SCHILDWEB Noteneingabe
DESCRIPTION:Typ: NE | Verantwortlich: 
END:VEVENT
BEGIN:VEVENT
UID:52a61c755e4b9fa418020b6cd2a7137b@mh-timetable.de
DTSTAMP:20260420T063800Z
DTSTART;VALUE=DATE:20260127
DTEND;VALUE=DATE:20260131
SUMMARY:BS: Zeugniskonferenzen
DESCRIPTION:Typ: ZK | Verantwortlich: 
END:VEVENT
BEGIN:VEVENT
UID:9a45ff685f1563f935775b0b40be7d70@mh-timetable.de
DTSTAMP:20260420T063800Z
DTSTART;VALUE=DATE:20260202
DTEND;VALUE=DATE:20260207
SUMMARY:BS: Zeugnisausgabe
DESCRIPTION:Typ: ZA | Verantwortlich: 
END:VEVENT
END:VCALENDAR
