BEGIN:VCALENDAR
VERSION:2.0
PRODID:-//MH Timetable Plugin//DE
CALSCALE:GREGORIAN
METHOD:PUBLISH
X-WR-CALNAME:Sommer 2025 - BS
BEGIN:VEVENT
UID:90e85ab9b2de6d0bafc07f539df44a80@mh-timetable.de
DTSTAMP:20260420T063753Z
DTSTART;VALUE=DATE:20250402
DTEND;VALUE=DATE:20250410
SUMMARY:BS: Datenüberprüfung (bis 14 Uhr)
DESCRIPTION:Typ: DÜ | Verantwortlich: 
END:VEVENT
BEGIN:VEVENT
UID:934b8c1e61c1e0792916e5f5ea4b3f23@mh-timetable.de
DTSTAMP:20260420T063753Z
DTSTART;VALUE=DATE:20250616
DTEND;VALUE=DATE:20250625
SUMMARY:BS: Noteneingabe
DESCRIPTION:Typ: NE | Verantwortlich: 
END:VEVENT
BEGIN:VEVENT
UID:85bece388fb949246b2197e13d47c97a@mh-timetable.de
DTSTAMP:20260420T063753Z
DTSTART;VALUE=DATE:20250626
DTEND;VALUE=DATE:20250702
SUMMARY:BS: Zeugniskonferenzen
DESCRIPTION:Typ: ZK | Verantwortlich: Klassenlehrer
END:VEVENT
BEGIN:VEVENT
UID:494a3cdd0d84ea004f88e394f70dcf3b@mh-timetable.de
DTSTAMP:20260420T063753Z
DTSTART;VALUE=DATE:20250707
DTEND;VALUE=DATE:20250712
SUMMARY:BS: Zeugnisausgabe
DESCRIPTION:Typ: ZA | Verantwortlich: Klassenlehrer
END:VEVENT
END:VCALENDAR
