BEGIN:VCALENDAR
VERSION:2.0
PRODID:-//MH Timetable Plugin//DE
CALSCALE:GREGORIAN
METHOD:PUBLISH
X-WR-CALNAME:Winter 2025/26 - BF
BEGIN:VEVENT
UID:ce6b950128d7a49ed36aa50dc8a13f85@mh-timetable.de
DTSTAMP:20260420T064102Z
DTSTART;VALUE=DATE:20251203
DTEND;VALUE=DATE:20251215
SUMMARY:BF: Datenüberprüfung
DESCRIPTION:Typ: DÜ | Verantwortlich: FachlehrerInnen
END:VEVENT
BEGIN:VEVENT
UID:4a774bea9967192b82ee0b2290f3d7b2@mh-timetable.de
DTSTAMP:20260420T064102Z
DTSTART;VALUE=DATE:20260109
DTEND;VALUE=DATE:20260126
SUMMARY:BF: SCHILDWEB Noteneingabe
DESCRIPTION:Typ: NE | Verantwortlich: 
END:VEVENT
BEGIN:VEVENT
UID:c9a8bd01411b3167228d30b63d57ecb4@mh-timetable.de
DTSTAMP:20260420T064102Z
DTSTART;VALUE=DATE:20260127
DTEND;VALUE=DATE:20260128
SUMMARY:BF: Zeugniskonferenzen
DESCRIPTION:Typ: ZK | Verantwortlich: 
END:VEVENT
BEGIN:VEVENT
UID:423fe589e6cdbd286d3c74c55aab4e6e@mh-timetable.de
DTSTAMP:20260420T064102Z
DTSTART;VALUE=DATE:20260206
DTEND;VALUE=DATE:20260207
SUMMARY:BF: Zeugnisausgabe
DESCRIPTION:Typ: ZA | Verantwortlich: 
END:VEVENT
END:VCALENDAR
