BEGIN:VCALENDAR
VERSION:2.0
PRODID:-//MH Timetable Plugin//DE
CALSCALE:GREGORIAN
METHOD:PUBLISH
X-WR-CALNAME:Sommer 2025 - BF
BEGIN:VEVENT
UID:f6ee47c9f86d616662feb47f091bc74d@mh-timetable.de
DTSTAMP:20260420T063948Z
DTSTART;VALUE=DATE:20250402
DTEND;VALUE=DATE:20250410
SUMMARY:BF: Datenüberprüfung (bis 14 Uhr)
DESCRIPTION:Typ: DÜ | Verantwortlich: 
END:VEVENT
BEGIN:VEVENT
UID:d13a164d2094238dfd43e674a456579c@mh-timetable.de
DTSTAMP:20260420T063948Z
DTSTART;VALUE=DATE:20250616
DTEND;VALUE=DATE:20250623
SUMMARY:BF: Noteneingabe
DESCRIPTION:Typ: NE | Verantwortlich: 
END:VEVENT
BEGIN:VEVENT
UID:41d9bc820110f303a0359cafa1302c3c@mh-timetable.de
DTSTAMP:20260420T063948Z
DTSTART;VALUE=DATE:20250624
DTEND;VALUE=DATE:20250625
SUMMARY:BF: Zeugniskonferenz
DESCRIPTION:Typ: ZK | Verantwortlich: 
END:VEVENT
BEGIN:VEVENT
UID:3c463dc5c7b0c4fd679ce99d64c753fd@mh-timetable.de
DTSTAMP:20260420T063948Z
DTSTART;VALUE=DATE:20250704
DTEND;VALUE=DATE:20250705
SUMMARY:BF: Zeugnisausgabe
DESCRIPTION:Typ: ZA | Verantwortlich: Feye
END:VEVENT
END:VCALENDAR
