BEGIN:VCALENDAR
VERSION:2.0
PRODID:-//MH Timetable Plugin//DE
CALSCALE:GREGORIAN
METHOD:PUBLISH
X-WR-CALNAME:Winter 2025/26 - BAU
BEGIN:VEVENT
UID:ae6c31f54cbb94d2656cf6d0c30a702e@mh-timetable.de
DTSTAMP:20260420T063851Z
DTSTART;VALUE=DATE:20251203
DTEND;VALUE=DATE:20251215
SUMMARY:BAU: Datenüberprüfung
DESCRIPTION:Typ: DÜ | Verantwortlich: FachlehrerInnen
END:VEVENT
BEGIN:VEVENT
UID:46492b936688575b41ea8e1102614f8f@mh-timetable.de
DTSTAMP:20260420T063851Z
DTSTART;VALUE=DATE:20260109
DTEND;VALUE=DATE:20260126
SUMMARY:BAU: SCHILDWEB Noteneingabe
DESCRIPTION:Typ: NE | Verantwortlich: 
END:VEVENT
BEGIN:VEVENT
UID:d1b4947d89085cafc5ecf32ef2111de8@mh-timetable.de
DTSTAMP:20260420T063851Z
DTSTART;VALUE=DATE:20260127
DTEND;VALUE=DATE:20260128
SUMMARY:BAU: Zeugniskonferenzen
DESCRIPTION:Typ: ZK | Verantwortlich: 
END:VEVENT
BEGIN:VEVENT
UID:6b374d90222689d9701b054c5a265da8@mh-timetable.de
DTSTAMP:20260420T063851Z
DTSTART;VALUE=DATE:20260206
DTEND;VALUE=DATE:20260207
SUMMARY:BAU: Zeugnisausgabe
DESCRIPTION:Typ: ZA | Verantwortlich: 
END:VEVENT
END:VCALENDAR
