BEGIN:VCALENDAR
VERSION:2.0
PRODID:-//MH Timetable Plugin//DE
CALSCALE:GREGORIAN
METHOD:PUBLISH
X-WR-CALNAME:Sommer 2025 - BAM
BEGIN:VEVENT
UID:7df24781a728f34d0edeaf86542ba2b0@mh-timetable.de
DTSTAMP:20260420T063753Z
DTSTART;VALUE=DATE:20250402
DTEND;VALUE=DATE:20250410
SUMMARY:BAM: Datenüberprüfung (bis 14 Uhr)
DESCRIPTION:Typ: DÜ | Verantwortlich: 
END:VEVENT
BEGIN:VEVENT
UID:cfd053470e9147585c2e23bcbabb6a85@mh-timetable.de
DTSTAMP:20260420T063753Z
DTSTART;VALUE=DATE:20250519
DTEND;VALUE=DATE:20250526
SUMMARY:BAM: Noteneingabe
DESCRIPTION:Typ: NE | Verantwortlich: 
END:VEVENT
BEGIN:VEVENT
UID:8ee38052f0c3bdd5d6c90a640a7ff28a@mh-timetable.de
DTSTAMP:20260420T063753Z
DTSTART;VALUE=DATE:20250526
DTEND;VALUE=DATE:20250527
SUMMARY:BAM: Zeugniskonferenzen
DESCRIPTION:Typ: ZK | Verantwortlich: 
END:VEVENT
BEGIN:VEVENT
UID:4a2e9f9324aeb11817ecc7b6978f44c2@mh-timetable.de
DTSTAMP:20260420T063753Z
DTSTART;VALUE=DATE:20250528
DTEND;VALUE=DATE:20250529
SUMMARY:BAM: Zeugnisausgabe
DESCRIPTION:Typ: ZA | Verantwortlich: 
END:VEVENT
END:VCALENDAR
