BEGIN:VCALENDAR
VERSION:2.0
PRODID:-//MH Timetable Plugin//DE
CALSCALE:GREGORIAN
METHOD:PUBLISH
X-WR-CALNAME:Sommer 2025 - AV
BEGIN:VEVENT
UID:c265da2ab9dd68ace8cb9f2d91eb17de@mh-timetable.de
DTSTAMP:20260420T063713Z
DTSTART;VALUE=DATE:20250402
DTEND;VALUE=DATE:20250410
SUMMARY:AV: Datenüberprüfung (bis 14 Uhr)
DESCRIPTION:Typ: DÜ | Verantwortlich: 
END:VEVENT
BEGIN:VEVENT
UID:d82efe0cc5f3ad09370fe5bbbe5d7771@mh-timetable.de
DTSTAMP:20260420T063713Z
DTSTART;VALUE=DATE:20250616
DTEND;VALUE=DATE:20250623
SUMMARY:AV: Noteneingabe
DESCRIPTION:Typ: NE | Verantwortlich: SCHILD
END:VEVENT
BEGIN:VEVENT
UID:aec865af745f5e1628866fce4643f35d@mh-timetable.de
DTSTAMP:20260420T063713Z
DTSTART;VALUE=DATE:20250624
DTEND;VALUE=DATE:20250625
SUMMARY:AV: Zeugniskonferenz
DESCRIPTION:Typ: ZK | Verantwortlich: 
END:VEVENT
BEGIN:VEVENT
UID:b65cf626ceb4ed3282e542c775011f82@mh-timetable.de
DTSTAMP:20260420T063713Z
DTSTART;VALUE=DATE:20250703
DTEND;VALUE=DATE:20250704
SUMMARY:AV: Zeugnisausgabe
DESCRIPTION:Typ: ZA | Verantwortlich: 
END:VEVENT
END:VCALENDAR
